BEGIN:VCALENDAR
VERSION:2.0
PRODID:-//ChamberMaster//Event Calendar 2.0//EN
METHOD:PUBLISH
X-PUBLISHED-TTL:P1H
REFRESH-INTERVAL:P1H
CALSCALE:GREGORIAN
BEGIN:VTIMEZONE
TZID:America/Chicago
BEGIN:DAYLIGHT
RRULE:FREQ=YEARLY;BYMONTH=3;BYDAY=2SU
DTSTART:20070101T000000
TZOFFSETFROM:-0600
TZOFFSETTO:-0500
TZNAME:Central Daylight Time
END:DAYLIGHT
BEGIN:STANDARD
RRULE:FREQ=YEARLY;BYMONTH=11;BYDAY=1SU
DTSTART:20070101T000000
TZOFFSETFROM:-0500
TZOFFSETTO:-0600
TZNAME:Central Standard Time
END:STANDARD
END:VTIMEZONE
BEGIN:VEVENT
DTSTART;TZID=America/Chicago:20260426T150000
DTEND;TZID=America/Chicago:20260426T160000
X-MICROSOFT-CDO-ALLDAYEVENT:FALSE
SUMMARY:MHS Mariachi Concert
DESCRIPTION:Celebrating the heritage and diversity of a significant segment of Marshalltown's residents\, the MHS Mariachi musical group will perform in an Arts@StPaul's concert Sunday\, April 26th\, at 3:00pm at St. Paul's Episcopal Church\, 201 E. Church Street. The concert is free of charge\, but free-will offerings will be donated to help fund the Mariachi program at the school.The Mariachi program began in 2022 at Marshalltown High School and Miller Middle School. Mrs. Potter directs the 7th and 8th grade ensembles and the high school ensemble is directed by Mr. Umthun and Mr. Lewsadder. The district has provided several years of specific Mariachi training at an out of state conference in the summer. On April 26\, 2024\, Marshalltown school district brought professional mariachi musician and educator\, Roberto Lopez from Rancho High School in Las Vegas to give both Miller and MHS groups a clinician as well as perform with them at a concert. In the fall of 2026\, both MHS and Miller mariachi ensembles were given a clinic with the grammy award winning\, "123 Andres" duo and later performed with them at a Kaleidescope Concert at the Gallagher Bluedorn PAC on November 1st. The high school mariachi group has performed numerous times in Marshalltown and has traveled to Grinnell\, UNI\, and Central College.
X-ALT-DESC;FMTTYPE=text/html:<!DOCTYPE html><html><head><title></title></head><body aria-disabled="false"><p>Celebrating the heritage and diversity of a significant segment of Marshalltown&#39\;s residents\, the MHS Mariachi musical group will perform in an Arts@StPaul&#39\;s concert Sunday\, April 26th\, at 3:00pm at St. Paul&#39\;s Episcopal Church\, 201 E. Church Street. The concert is free of charge\, but free-will offerings will be donated to help fund the Mariachi program at the school.</p><p>The Mariachi program began in 2022 at Marshalltown High School and Miller Middle School. Mrs. Potter directs the 7th and 8th grade ensembles and the high school ensemble is directed by Mr. Umthun and Mr. Lewsadder. The district has provided several years of specific Mariachi training at an out of state conference in the summer. On April 26\, 2024\, Marshalltown school district brought professional mariachi musician and educator\, Roberto Lopez from Rancho High School in Las Vegas to give both Miller and MHS groups a clinician as well as perform with them at a concert. In the fall of 2026\, both MHS and Miller mariachi ensembles were given a clinic with the grammy award winning\, &ldquo\;123 Andres&rdquo\; duo and later performed with them at a Kaleidescope Concert at the Gallagher Bluedorn PAC on November 1st. The high school mariachi group has performed numerous times in Marshalltown and has traveled to Grinnell\, UNI\, and Central College.</p></body></html>
LOCATION:201 E Church St Marshalltown IA 50158-2944
UID:e.1402.1446306
SEQUENCE:3
DTSTAMP:20260419T131315Z
URL:https://business.marshalltown.org/chamber-events/Details/mhs-mariachi-concert-1713039?sourceTypeId=Hub
END:VEVENT
END:VCALENDAR
