BEGIN:VCALENDAR
VERSION:2.0
PRODID:-//ChamberMaster//Event Calendar 2.0//EN
METHOD:PUBLISH
X-PUBLISHED-TTL:P1H
REFRESH-INTERVAL:P1H
CALSCALE:GREGORIAN
BEGIN:VTIMEZONE
TZID:America/Chicago
BEGIN:DAYLIGHT
RRULE:FREQ=YEARLY;BYMONTH=3;BYDAY=2SU
DTSTART:20070101T000000
TZOFFSETFROM:-0600
TZOFFSETTO:-0500
TZNAME:Central Daylight Time
END:DAYLIGHT
BEGIN:STANDARD
RRULE:FREQ=YEARLY;BYMONTH=11;BYDAY=1SU
DTSTART:20070101T000000
TZOFFSETFROM:-0500
TZOFFSETTO:-0600
TZNAME:Central Standard Time
END:STANDARD
END:VTIMEZONE
BEGIN:VEVENT
DTSTART;TZID=America/Chicago:20260501T173000
DTEND;TZID=America/Chicago:20260501T210000
X-MICROSOFT-CDO-ALLDAYEVENT:FALSE
SUMMARY:The Dance Konnection's 36th Spring Dance Recital - Kaleidoscope
DESCRIPTION:Join us fat the MHS Performing Arts Center for our colorful end of year recital\, Kaleidoscope.  Watch over 200 area dancers put on a spectacular show that you don't want to miss!  You can purchase tickets here: https://29396.danceticketing.com starting April 13th till the day of the show.   Tickets must be purchased to attend.  All seating is reserved.
X-ALT-DESC;FMTTYPE=text/html:<!DOCTYPE html><html><head><title></title></head><body aria-disabled="false"><p>Join us fat the MHS Performing Arts Center for our colorful end of year recital\, Kaleidoscope. &nbsp\;Watch over 200 area dancers put on a spectacular show that you don&#39\;t want to miss! &nbsp\;You can purchase tickets here: <a data-fr-linked="true" fr-original-style="" href="https://29396.danceticketing.com" style="user-select: auto\;">https://29396.danceticketing.com</a> starting April 13th till the day of the show. &nbsp\; Tickets must be purchased to attend.&nbsp\; All seating is reserved.</p></body></html>
LOCATION:1602 S. 2nd Ave Marshalltown IA 50158
UID:e.1402.1441076
SEQUENCE:3
DTSTAMP:20260419T131416Z
URL:https://business.marshalltown.org/chamber-events/Details/the-dance-konnection-s-36th-spring-dance-recital-kaleidoscope-1706298?sourceTypeId=Hub
END:VEVENT
END:VCALENDAR
